BEGIN:VCALENDAR
VERSION:2.0
PRODID:-//Australian Jewish Association - ECPv5.16.4//NONSGML v1.0//EN
CALSCALE:GREGORIAN
METHOD:PUBLISH
X-ORIGINAL-URL:https://ajav1.ctwebdev.xyz
X-WR-CALDESC:Events for Australian Jewish Association
REFRESH-INTERVAL;VALUE=DURATION:PT1H
X-Robots-Tag:noindex
X-PUBLISHED-TTL:PT1H
BEGIN:VTIMEZONE
TZID:UTC
BEGIN:STANDARD
TZOFFSETFROM:+0000
TZOFFSETTO:+0000
TZNAME:UTC
DTSTART:20220101T000000
END:STANDARD
END:VTIMEZONE
BEGIN:VEVENT
DTSTART;TZID=UTC:20220914T183000
DTEND;TZID=UTC:20220914T200000
DTSTAMP:20260420T123820
CREATED:20220825T060533Z
LAST-MODIFIED:20220825T063325Z
UID:7879-1663180200-1663185600@ajav1.ctwebdev.xyz
SUMMARY:AJA partners with Holocaust survivor Eddy Boas to raise awareness
DESCRIPTION:As part of AJA’s work combatting antisemitism and raising awareness of the Holocaust\, several months ago on Yom Hashoa\, we heard first-hand the story of Holocaust survivor Eddy Boas. Eddy also gave an interview with AJA Public Affairs Director Robert Gregory. 						\n				\n				\n				\n							Now\, AJA is delighted to announce that we are partnering with several other organisations to support an upcoming event at NSW Parliament House\, where Eddy will tell his story in front of a live audience.\n						\n				\n				\n				\n							Caroline Marcus from Sky News will interview Eddy\, and a professional film crew will create a recording\, which will be sent to schools to use in educating about the Holocaust.
URL:https://ajav1.ctwebdev.xyz/event/aja-partners-with-holocaust-survivor-eddy-boas-to-raise-awareness/
LOCATION:NSW Parliament House\, Australia
CATEGORIES:Special Event
ATTACH;FMTTYPE=image/jpeg:https://ajav1.ctwebdev.xyz/wp-content/uploads/2022/08/Eddy-Boas-event-1-2.jpg
END:VEVENT
BEGIN:VEVENT
DTSTART;TZID=UTC:20220904T100000
DTEND;TZID=UTC:20220904T170000
DTSTAMP:20260420T123820
CREATED:20220825T010214Z
LAST-MODIFIED:20220825T042630Z
UID:7869-1662285600-1662310800@ajav1.ctwebdev.xyz
SUMMARY:The Australian Jewish Association - and our not-so-inclusive Jewish community organisations
DESCRIPTION:As part of AJA’s work combatting antisemitism and raising awareness of the Holocaust\, several months ago on Yom Hashoa\, we heard first-hand the story of Holocaust survivor Eddy Boas. Eddy also gave an interview with AJA Public Affairs Director Robert Gregory. 						\n				\n				\n				\n							Now\, AJA is delighted to announce that we are partnering with several other organisations to support an upcoming event at NSW Parliament House\, where Eddy will tell his story in front of a live audience.\n						\n				\n				\n				\n							Caroline Marcus from Sky News will interview Eddy\, and a professional film crew will create a recording\, which will be sent to schools to use in educating about the Holocaust.
URL:https://ajav1.ctwebdev.xyz/event/the-australian-jewish-association-and-our-not-so-inclusive-jewish-community-organisations/
LOCATION:Melbourne\, Australia
CATEGORIES:Feed
ATTACH;FMTTYPE=image/jpeg:https://ajav1.ctwebdev.xyz/wp-content/uploads/2022/08/Limmud.jpg
END:VEVENT
END:VCALENDAR